BEGIN:VCALENDAR
VERSION:2.0
PRODID:-//SPD Volkmarode-Schapen-Dibbesdorf - ECPv6.15.18//NONSGML v1.0//EN
CALSCALE:GREGORIAN
METHOD:PUBLISH
X-WR-CALNAME:SPD Volkmarode-Schapen-Dibbesdorf
X-ORIGINAL-URL:https://spd-volkmarode-dibbesdorf-schapen.de
X-WR-CALDESC:Veranstaltungen für SPD Volkmarode-Schapen-Dibbesdorf
REFRESH-INTERVAL;VALUE=DURATION:PT1H
X-Robots-Tag:noindex
X-PUBLISHED-TTL:PT1H
BEGIN:VTIMEZONE
TZID:Europe/Paris
BEGIN:DAYLIGHT
TZOFFSETFROM:+0100
TZOFFSETTO:+0200
TZNAME:CEST
DTSTART:20200329T010000
END:DAYLIGHT
BEGIN:STANDARD
TZOFFSETFROM:+0200
TZOFFSETTO:+0100
TZNAME:CET
DTSTART:20201025T010000
END:STANDARD
BEGIN:DAYLIGHT
TZOFFSETFROM:+0100
TZOFFSETTO:+0200
TZNAME:CEST
DTSTART:20210328T010000
END:DAYLIGHT
BEGIN:STANDARD
TZOFFSETFROM:+0200
TZOFFSETTO:+0100
TZNAME:CET
DTSTART:20211031T010000
END:STANDARD
BEGIN:DAYLIGHT
TZOFFSETFROM:+0100
TZOFFSETTO:+0200
TZNAME:CEST
DTSTART:20220327T010000
END:DAYLIGHT
BEGIN:STANDARD
TZOFFSETFROM:+0200
TZOFFSETTO:+0100
TZNAME:CET
DTSTART:20221030T010000
END:STANDARD
END:VTIMEZONE
BEGIN:VEVENT
DTSTART;TZID=Europe/Paris:20210730T180000
DTEND;TZID=Europe/Paris:20210730T193000
DTSTAMP:20260423T175529
CREATED:20210730T203706Z
LAST-MODIFIED:20210730T210408Z
UID:1738-1627668000-1627673400@spd-volkmarode-dibbesdorf-schapen.de
SUMMARY:Zuhörtour Hondelage und Dibbesdorf
DESCRIPTION:BRAUNSCHWEIG BEWEGEN \nMöchten Sie die Kandidaten*innen des Wahlbezirks 11 kennenlernen? \n  \nIch lade Sie herzlich zu einem Spaziergang ein. Dabei werden wir Hondelage und Dibbesdorf erkunden. Natürlich können sie uns alles fragen bzw. berichten\, was Ihnen auf der Seele brennt. \n  \nDer Ordnungsdezernent der Stadt Braunschweig  \nDr. Thorsten Kornblum (Kandidat für die Wahl des Oberbürgermeisters) und Dr. Christos Pantazis werden uns zeitweise begleiten. \nTermin: Freitag\, 18. Juni 2021  \nStart: 18:00 Uhr In den Heistern 5 (Sternwarte)\, Hondelage \nWir freuen mich auf einen entspannten Spaziergang. \nIhre/eure \nSonja Lerche\, Ulrich Volkmann und alle Bezirksrats- und Stadtratskandidaten 
URL:https://spd-volkmarode-dibbesdorf-schapen.de/termine/zuhoertour-hondelage-und-dibbesdorf/
LOCATION:Sternwarte\, In den Heistern 5\, BS-Hondelage\, 38108
CATEGORIES:Wahlen
END:VEVENT
END:VCALENDAR