BEGIN:VCALENDAR
VERSION:2.0
PRODID:-//SPD Volkmarode-Schapen-Dibbesdorf - ECPv6.15.18//NONSGML v1.0//EN
CALSCALE:GREGORIAN
METHOD:PUBLISH
X-WR-CALNAME:SPD Volkmarode-Schapen-Dibbesdorf
X-ORIGINAL-URL:https://spd-volkmarode-dibbesdorf-schapen.de
X-WR-CALDESC:Veranstaltungen für SPD Volkmarode-Schapen-Dibbesdorf
REFRESH-INTERVAL;VALUE=DURATION:PT1H
X-Robots-Tag:noindex
X-PUBLISHED-TTL:PT1H
BEGIN:VTIMEZONE
TZID:Europe/Paris
BEGIN:DAYLIGHT
TZOFFSETFROM:+0100
TZOFFSETTO:+0200
TZNAME:CEST
DTSTART:20200329T010000
END:DAYLIGHT
BEGIN:STANDARD
TZOFFSETFROM:+0200
TZOFFSETTO:+0100
TZNAME:CET
DTSTART:20201025T010000
END:STANDARD
BEGIN:DAYLIGHT
TZOFFSETFROM:+0100
TZOFFSETTO:+0200
TZNAME:CEST
DTSTART:20210328T010000
END:DAYLIGHT
BEGIN:STANDARD
TZOFFSETFROM:+0200
TZOFFSETTO:+0100
TZNAME:CET
DTSTART:20211031T010000
END:STANDARD
BEGIN:DAYLIGHT
TZOFFSETFROM:+0100
TZOFFSETTO:+0200
TZNAME:CEST
DTSTART:20220327T010000
END:DAYLIGHT
BEGIN:STANDARD
TZOFFSETFROM:+0200
TZOFFSETTO:+0100
TZNAME:CET
DTSTART:20221030T010000
END:STANDARD
END:VTIMEZONE
BEGIN:VEVENT
DTSTART;TZID=Europe/Paris:20210731T100000
DTEND;TZID=Europe/Paris:20210731T113000
DTSTAMP:20260423T162950
CREATED:20210730T180632Z
LAST-MODIFIED:20210730T210243Z
UID:1728-1627725600-1627731000@spd-volkmarode-dibbesdorf-schapen.de
SUMMARY:Zuhörtour Gliesmarode
DESCRIPTION:Zuhörtour – Klönschnack mit den Kandidaten  \nIm Rahmen der Zuhörtour  besuchen die SPD-Kandidatinnen und Kandidaten am  \nSamstag\, den 31.7.2021 Gliesmarode und Riddagshausen. \nDie Tour beginnt um 10.00 Uhr an der Ecke Berliner Straße Ecke Baumschulenweg. \nInteressierte Bürgerinnen und Bürger sind herzlich eingeladen.  \nNeben dem Kandidaten für das Amt des Oberbürgermeister Dr. Thorsten Kornblum sind noch die SPD-Bewerber für den Stadtrat und Bezirksrat vor Ort. \nLernen Sie die Kandidatinnen und Kandidaten kennen. Schildern Sie Ihre Anregungen und Sorgen oder erzählen\, was Ihnen gefällt.  \nDie Veranstaltung soll ca. 90 Minuten dauern und am Begegnungszentrum Gliesmarode enden. \nUlrich Volkmann
URL:https://spd-volkmarode-dibbesdorf-schapen.de/termine/zuhoertour-gliesmarode/
LOCATION:Baumschulenweg\, Berliner Straße\, Einmündung Baumschulenweg\, BS-Gliesmarode\, 38104
CATEGORIES:Wahlen
END:VEVENT
END:VCALENDAR