BEGIN:VCALENDAR
VERSION:2.0
PRODID:-//SPD Volkmarode-Schapen-Dibbesdorf - ECPv6.15.18//NONSGML v1.0//EN
CALSCALE:GREGORIAN
METHOD:PUBLISH
X-WR-CALNAME:SPD Volkmarode-Schapen-Dibbesdorf
X-ORIGINAL-URL:https://spd-volkmarode-dibbesdorf-schapen.de
X-WR-CALDESC:Veranstaltungen für SPD Volkmarode-Schapen-Dibbesdorf
REFRESH-INTERVAL;VALUE=DURATION:PT1H
X-Robots-Tag:noindex
X-PUBLISHED-TTL:PT1H
BEGIN:VTIMEZONE
TZID:Europe/Paris
BEGIN:DAYLIGHT
TZOFFSETFROM:+0100
TZOFFSETTO:+0200
TZNAME:CEST
DTSTART:20200329T010000
END:DAYLIGHT
BEGIN:STANDARD
TZOFFSETFROM:+0200
TZOFFSETTO:+0100
TZNAME:CET
DTSTART:20201025T010000
END:STANDARD
BEGIN:DAYLIGHT
TZOFFSETFROM:+0100
TZOFFSETTO:+0200
TZNAME:CEST
DTSTART:20210328T010000
END:DAYLIGHT
BEGIN:STANDARD
TZOFFSETFROM:+0200
TZOFFSETTO:+0100
TZNAME:CET
DTSTART:20211031T010000
END:STANDARD
BEGIN:DAYLIGHT
TZOFFSETFROM:+0100
TZOFFSETTO:+0200
TZNAME:CEST
DTSTART:20220327T010000
END:DAYLIGHT
BEGIN:STANDARD
TZOFFSETFROM:+0200
TZOFFSETTO:+0100
TZNAME:CET
DTSTART:20221030T010000
END:STANDARD
END:VTIMEZONE
BEGIN:VEVENT
DTSTART;TZID=Europe/Paris:20210807T100000
DTEND;TZID=Europe/Paris:20210807T120000
DTSTAMP:20260423T162910
CREATED:20210730T203955Z
LAST-MODIFIED:20210802T204639Z
UID:1741-1628330400-1628337600@spd-volkmarode-dibbesdorf-schapen.de
SUMMARY:Zuhörtour Querum
DESCRIPTION:Die Zuhörtour – Klönschnack mit den Kandidten wird fortgesetzt \nDie nächste Station ist Querum am Samstag\, den 07. August\, um 10:00 Uhr \nTreffpunkt: Bevenroder Str. / Im Holzmoor \n\n\nOrganisator Peter Chmielnik vom SPD-Ortsverein Querum hat folgende Ziele vorgesehen: \nNeubaugebiete ‚Im Holzmoor‘ und ‚Dibbesdorfer Straße‘\, evtl. noch Schulen (IGS\, GS) \nThemen: Bezahlbarer Wohnraum\, Verkehrssituation\, Kinderbetreuung\, Stadtbahn nach Querum\, Wünsche aus Reihen der Mit-Spaziergänger \nNeben den Kandidatinnen und Kandiaten für den Stadtrat (Wahlkreis 11 – Nordost) und dem Stadtbezirksrat\, wollen auch der Kandidat für das Amt des Oberbürgermeisters\, Dr. Thorsten Kornblum\, und der Bundestagskandidat Dr. Christos Pantazis die „Spaziergänger“ begleiten. \nDie Bürgerinnen und Bürger sind herzlich willkommen und eingeladen\, die BewerberInnen kennenzulernen oder sich mit Fragen und Anregungen an sie zu wenden. \n\n 
URL:https://spd-volkmarode-dibbesdorf-schapen.de/termine/zuhoertour-querum/
LOCATION:Im Holzmoor\, Bevenroder Str. / Im Holzmoor\, BS-Querum\, 38108
CATEGORIES:Wahlen
END:VEVENT
END:VCALENDAR