BEGIN:VCALENDAR
VERSION:2.0
PRODID:-//SPD Volkmarode-Schapen-Dibbesdorf - ECPv6.15.18//NONSGML v1.0//EN
CALSCALE:GREGORIAN
METHOD:PUBLISH
X-ORIGINAL-URL:https://spd-volkmarode-dibbesdorf-schapen.de
X-WR-CALDESC:Veranstaltungen für SPD Volkmarode-Schapen-Dibbesdorf
REFRESH-INTERVAL;VALUE=DURATION:PT1H
X-Robots-Tag:noindex
X-PUBLISHED-TTL:PT1H
BEGIN:VTIMEZONE
TZID:Europe/Paris
BEGIN:DAYLIGHT
TZOFFSETFROM:+0100
TZOFFSETTO:+0200
TZNAME:CEST
DTSTART:20210328T010000
END:DAYLIGHT
BEGIN:STANDARD
TZOFFSETFROM:+0200
TZOFFSETTO:+0100
TZNAME:CET
DTSTART:20211031T010000
END:STANDARD
BEGIN:DAYLIGHT
TZOFFSETFROM:+0100
TZOFFSETTO:+0200
TZNAME:CEST
DTSTART:20220327T010000
END:DAYLIGHT
BEGIN:STANDARD
TZOFFSETFROM:+0200
TZOFFSETTO:+0100
TZNAME:CET
DTSTART:20221030T010000
END:STANDARD
BEGIN:DAYLIGHT
TZOFFSETFROM:+0100
TZOFFSETTO:+0200
TZNAME:CEST
DTSTART:20230326T010000
END:DAYLIGHT
BEGIN:STANDARD
TZOFFSETFROM:+0200
TZOFFSETTO:+0100
TZNAME:CET
DTSTART:20231029T010000
END:STANDARD
END:VTIMEZONE
BEGIN:VEVENT
DTSTART;TZID=Europe/Paris:20220903T180000
DTEND;TZID=Europe/Paris:20220903T230000
DTSTAMP:20260422T211701
CREATED:20220816T100209Z
LAST-MODIFIED:20220816T100209Z
UID:2690-1662228000-1662246000@spd-volkmarode-dibbesdorf-schapen.de
SUMMARY:Benefitzkonzert für die Ukraine
DESCRIPTION:Mit dem ukrainischen Folk-Sänger und Gitarristen Gena\, der Band „Dalibude“ und der ukrainischen Popsängerin Navka. \nBegegnungsZentrum Gliesmarode\, 03. Sept. 2022\, 18:00 Uhr (Einlass: 17:00 Uhr) \nEintritt frei\, Spenden erbeten. \n 
URL:https://spd-volkmarode-dibbesdorf-schapen.de/termine/benefitzkonzert-fuer-die-ukraine/
LOCATION:BegegnungsZentrum Gliesmarode\, Am Soolanger 1a\, Braunschweig\, 38104
END:VEVENT
END:VCALENDAR