BEGIN:VCALENDAR
VERSION:2.0
PRODID:-//SPD Volkmarode-Schapen-Dibbesdorf - ECPv6.15.18//NONSGML v1.0//EN
CALSCALE:GREGORIAN
METHOD:PUBLISH
X-ORIGINAL-URL:https://spd-volkmarode-dibbesdorf-schapen.de
X-WR-CALDESC:Veranstaltungen für SPD Volkmarode-Schapen-Dibbesdorf
REFRESH-INTERVAL;VALUE=DURATION:PT1H
X-Robots-Tag:noindex
X-PUBLISHED-TTL:PT1H
BEGIN:VTIMEZONE
TZID:Europe/Paris
BEGIN:DAYLIGHT
TZOFFSETFROM:+0100
TZOFFSETTO:+0200
TZNAME:CEST
DTSTART:20210328T010000
END:DAYLIGHT
BEGIN:STANDARD
TZOFFSETFROM:+0200
TZOFFSETTO:+0100
TZNAME:CET
DTSTART:20211031T010000
END:STANDARD
BEGIN:DAYLIGHT
TZOFFSETFROM:+0100
TZOFFSETTO:+0200
TZNAME:CEST
DTSTART:20220327T010000
END:DAYLIGHT
BEGIN:STANDARD
TZOFFSETFROM:+0200
TZOFFSETTO:+0100
TZNAME:CET
DTSTART:20221030T010000
END:STANDARD
BEGIN:DAYLIGHT
TZOFFSETFROM:+0100
TZOFFSETTO:+0200
TZNAME:CEST
DTSTART:20230326T010000
END:DAYLIGHT
BEGIN:STANDARD
TZOFFSETFROM:+0200
TZOFFSETTO:+0100
TZNAME:CET
DTSTART:20231029T010000
END:STANDARD
END:VTIMEZONE
BEGIN:VEVENT
DTSTART;TZID=Europe/Paris:20220927T210000
DTEND;TZID=Europe/Paris:20220927T221500
DTSTAMP:20260422T180922
CREATED:20220924T090737Z
LAST-MODIFIED:20220924T091032Z
UID:2774-1664312400-1664316900@spd-volkmarode-dibbesdorf-schapen.de
SUMMARY:Stephan Weil im Duell mit Herrn Althusmann
DESCRIPTION:Der nächste Meilenstein steht am kommenden Dienstag\, dem 27.09.\, vor der Tür. Um 21:00 Uhr findet live im NDR das Duell zwischen Herrn Althusmann (CDU) und Stephan Weil (SPD) statt. \nSchaltet Sie sich ein! \nhttps://www.ndr.de/fernsehen/sendungen/NDR-Info-Wahl-Das-Duell\,sendung1296688.html \n  \n 
URL:https://spd-volkmarode-dibbesdorf-schapen.de/termine/stephan-weil-im-duell-mit-herrn-althusmann/
LOCATION:NDR-Fernsehen
CATEGORIES:Wahlen
END:VEVENT
END:VCALENDAR