BEGIN:VCALENDAR
VERSION:2.0
PRODID:-//SPD Volkmarode-Schapen-Dibbesdorf - ECPv6.15.18//NONSGML v1.0//EN
CALSCALE:GREGORIAN
METHOD:PUBLISH
X-ORIGINAL-URL:https://spd-volkmarode-dibbesdorf-schapen.de
X-WR-CALDESC:Veranstaltungen für SPD Volkmarode-Schapen-Dibbesdorf
REFRESH-INTERVAL;VALUE=DURATION:PT1H
X-Robots-Tag:noindex
X-PUBLISHED-TTL:PT1H
BEGIN:VTIMEZONE
TZID:Europe/Paris
BEGIN:DAYLIGHT
TZOFFSETFROM:+0100
TZOFFSETTO:+0200
TZNAME:CEST
DTSTART:20200329T010000
END:DAYLIGHT
BEGIN:STANDARD
TZOFFSETFROM:+0200
TZOFFSETTO:+0100
TZNAME:CET
DTSTART:20201025T010000
END:STANDARD
BEGIN:DAYLIGHT
TZOFFSETFROM:+0100
TZOFFSETTO:+0200
TZNAME:CEST
DTSTART:20210328T010000
END:DAYLIGHT
BEGIN:STANDARD
TZOFFSETFROM:+0200
TZOFFSETTO:+0100
TZNAME:CET
DTSTART:20211031T010000
END:STANDARD
BEGIN:DAYLIGHT
TZOFFSETFROM:+0100
TZOFFSETTO:+0200
TZNAME:CEST
DTSTART:20220327T010000
END:DAYLIGHT
BEGIN:STANDARD
TZOFFSETFROM:+0200
TZOFFSETTO:+0100
TZNAME:CET
DTSTART:20221030T010000
END:STANDARD
END:VTIMEZONE
BEGIN:VEVENT
DTSTART;TZID=Europe/Paris:20210807T100000
DTEND;TZID=Europe/Paris:20210807T120000
DTSTAMP:20260423T150715
CREATED:20210730T203955Z
LAST-MODIFIED:20210802T204639Z
UID:1741-1628330400-1628337600@spd-volkmarode-dibbesdorf-schapen.de
SUMMARY:Zuhörtour Querum
DESCRIPTION:Die Zuhörtour – Klönschnack mit den Kandidten wird fortgesetzt \nDie nächste Station ist Querum am Samstag\, den 07. August\, um 10:00 Uhr \nTreffpunkt: Bevenroder Str. / Im Holzmoor \n\n\nOrganisator Peter Chmielnik vom SPD-Ortsverein Querum hat folgende Ziele vorgesehen: \nNeubaugebiete ‚Im Holzmoor‘ und ‚Dibbesdorfer Straße‘\, evtl. noch Schulen (IGS\, GS) \nThemen: Bezahlbarer Wohnraum\, Verkehrssituation\, Kinderbetreuung\, Stadtbahn nach Querum\, Wünsche aus Reihen der Mit-Spaziergänger \nNeben den Kandidatinnen und Kandiaten für den Stadtrat (Wahlkreis 11 – Nordost) und dem Stadtbezirksrat\, wollen auch der Kandidat für das Amt des Oberbürgermeisters\, Dr. Thorsten Kornblum\, und der Bundestagskandidat Dr. Christos Pantazis die „Spaziergänger“ begleiten. \nDie Bürgerinnen und Bürger sind herzlich willkommen und eingeladen\, die BewerberInnen kennenzulernen oder sich mit Fragen und Anregungen an sie zu wenden. \n\n 
URL:https://spd-volkmarode-dibbesdorf-schapen.de/termine/zuhoertour-querum/
LOCATION:Im Holzmoor\, Bevenroder Str. / Im Holzmoor\, BS-Querum\, 38108
CATEGORIES:Wahlen
END:VEVENT
BEGIN:VEVENT
DTSTART;TZID=Europe/Paris:20210813T180000
DTEND;TZID=Europe/Paris:20210813T193000
DTSTAMP:20260423T150715
CREATED:20210730T174552Z
LAST-MODIFIED:20210822T165743Z
UID:1718-1628877600-1628883000@spd-volkmarode-dibbesdorf-schapen.de
SUMMARY:Zuhörtour Schapen-Volkmarode
DESCRIPTION:Sie möchten die Stadtrats- und Bezirksratskandidatinnen und Kandidaten der SPD kennenlernen? Bei der Zuhörtour am Freitag\, 13. August 2021 um 18.00 h\, Treffpunkt: Sporthalle Schapen (Navi: Buchhorstblick 9) haben Sie die Gelegenheit dazu. Dabei sollen die Stadtteile Schapen und Volkmarode besucht werden. \nEingeladen wurden außerdem der Kandidat für das Amt des Oberbürgermeisters Dr. Thorsten Kornblum und der Bundestagskandidat Dr. Christos Pantazis. Letzterer ist vielen Schapenern persönlich bekannt\, war er doch häufig ist Schapen zu Gast. Eine vorherige Anmeldung ist nicht erforderlich. \nGeplanter Verlauf (unverbindlich): \nSporthalle Schapen – Minikreisel Schapen – … – Querungshilfe Seikenkamp – Kreuzung Berliner Heerstraße/Am Feuerteich – Geplante Stadtbahntrasse und Wendeschleife – Moorhüttenteich – real (wird nachgeholt: 24. Aug.) – ggf Schäfers Ruh und Schapener Bahnhof \nSie sind herzlich eingeladen. \nUlrich Volkmann
URL:https://spd-volkmarode-dibbesdorf-schapen.de/termine/1718/
LOCATION:Sporthalle Schapen\, Buchhorstblick 9\, BS-Schapen\, 38104
CATEGORIES:Wahlen
END:VEVENT
BEGIN:VEVENT
DTSTART;TZID=Europe/Paris:20210824T180000
DTEND;TZID=Europe/Paris:20210824T200000
DTSTAMP:20260423T150715
CREATED:20210822T155002Z
LAST-MODIFIED:20210822T164237Z
UID:2055-1629828000-1629835200@spd-volkmarode-dibbesdorf-schapen.de
SUMMARY:Zuhörtour Volkmarode
DESCRIPTION:Zuhörtour – Klönschnack mit den Kandidierenden\nfindet am \nDienstag\, 24. August 2021 um 18.00 h  in Volkmarode statt. \n Treffpunkt: vor dem Feuerwehrgerätehaus Volkmarode \n(Bitte nicht auf dem Gelände der Feuerwehr parken.) \nNavi: Distelheide – Dort befinden sich auch Parkmöglichkeiten außerhalb\, aber neben dem Feuerwehrgelände. \n  \nGeplante Tour: \n\nKreuzung Alte Berliner Heerstraße/Am Feuerteich\nGeplante Straßenbahntrasse\nGeplantes Neubaugebiet\nMoorhüttenteich\n\n\nInteressierte Mitbürgerinnen und Mitbürger sind herzlich willkommen. Mehr noch\, sie können den Ablauf der Tour mit eigenen Anregungen und Wünschen ergänzen oder verändern. \nSofern der Zeitplan es zulässt\, werden der Kandidat für den Bundestag\, Dr. Christos Pantazis und/oder der Oberbürgermeisterkandidat Dr. Thorsten Kornblum teilnehmen. \nDurch den Bezirk führt der Kandidat für das Amt des Bezirkbürgermeisters für den Bezirk Hondelage – Volkmarode und für den Stadtrat\, Ulrich Volkmann. \nWeitere Kandidatinnen und Kandidaten für den Bezirksrat und Stadtrat stehen den Gästen gern Rede und Anwort.
URL:https://spd-volkmarode-dibbesdorf-schapen.de/termine/zuhoertour-volkmarode/
LOCATION:Feuerwehrhaus Volkmarode\, Ziegelkamp 7\, Braunschweig-Volkmarode\, 38104
CATEGORIES:Stadtbezirksrat,Wahlen
END:VEVENT
END:VCALENDAR