BEGIN:VCALENDAR
VERSION:2.0
PRODID:-//SPD Volkmarode-Schapen-Dibbesdorf - ECPv6.15.18//NONSGML v1.0//EN
CALSCALE:GREGORIAN
METHOD:PUBLISH
X-WR-CALNAME:SPD Volkmarode-Schapen-Dibbesdorf
X-ORIGINAL-URL:https://spd-volkmarode-dibbesdorf-schapen.de
X-WR-CALDESC:Veranstaltungen für SPD Volkmarode-Schapen-Dibbesdorf
REFRESH-INTERVAL;VALUE=DURATION:PT1H
X-Robots-Tag:noindex
X-PUBLISHED-TTL:PT1H
BEGIN:VTIMEZONE
TZID:Europe/Paris
BEGIN:DAYLIGHT
TZOFFSETFROM:+0100
TZOFFSETTO:+0200
TZNAME:CEST
DTSTART:20200329T010000
END:DAYLIGHT
BEGIN:STANDARD
TZOFFSETFROM:+0200
TZOFFSETTO:+0100
TZNAME:CET
DTSTART:20201025T010000
END:STANDARD
BEGIN:DAYLIGHT
TZOFFSETFROM:+0100
TZOFFSETTO:+0200
TZNAME:CEST
DTSTART:20210328T010000
END:DAYLIGHT
BEGIN:STANDARD
TZOFFSETFROM:+0200
TZOFFSETTO:+0100
TZNAME:CET
DTSTART:20211031T010000
END:STANDARD
BEGIN:DAYLIGHT
TZOFFSETFROM:+0100
TZOFFSETTO:+0200
TZNAME:CEST
DTSTART:20220327T010000
END:DAYLIGHT
BEGIN:STANDARD
TZOFFSETFROM:+0200
TZOFFSETTO:+0100
TZNAME:CET
DTSTART:20221030T010000
END:STANDARD
END:VTIMEZONE
BEGIN:VEVENT
DTSTART;TZID=Europe/Paris:20210903T080000
DTEND;TZID=Europe/Paris:20210903T100000
DTSTAMP:20260423T133542
CREATED:20210901T131352Z
LAST-MODIFIED:20220827T091814Z
UID:2107-1630656000-1630663200@spd-volkmarode-dibbesdorf-schapen.de
SUMMARY:SPD Info-Stand (Volkmarode)
DESCRIPTION:Informationen über und Gespräche mit Kandidatinnen und Kandidaten für Stadtbezirk und Stadtrat.
URL:https://spd-volkmarode-dibbesdorf-schapen.de/termine/spd-info-stand/
LOCATION:Feuerteich\, Am Feuerteich\, BS-Volmarode\, 38104
CATEGORIES:Wahlen
END:VEVENT
BEGIN:VEVENT
DTSTART;TZID=Europe/Paris:20210904T080000
DTEND;TZID=Europe/Paris:20210904T100000
DTSTAMP:20260423T133542
CREATED:20210901T131523Z
LAST-MODIFIED:20220827T091837Z
UID:2111-1630742400-1630749600@spd-volkmarode-dibbesdorf-schapen.de
SUMMARY:SPD Info-Stand (Hondelage)
DESCRIPTION:Informationen über und Gespräche mit Kandidatinnen und Kandidaten für Stadtbezirk und Stadtrat.
URL:https://spd-volkmarode-dibbesdorf-schapen.de/termine/spd-info-stand-hondelage/
LOCATION:Ackerweg\, Ackerweg 1\, BS-Hondelage\, 38108
CATEGORIES:Wahlen
END:VEVENT
BEGIN:VEVENT
DTSTART;TZID=Europe/Paris:20210904T100000
DTEND;TZID=Europe/Paris:20210904T120000
DTSTAMP:20260423T133542
CREATED:20210901T131924Z
LAST-MODIFIED:20220827T091754Z
UID:2113-1630749600-1630756800@spd-volkmarode-dibbesdorf-schapen.de
SUMMARY:SPD Info-Stand (Volkmarode)
DESCRIPTION:Informationen über und Gespräche mit Kandidatinnen und Kandidaten für Stadtbezirk und Stadtrat.
URL:https://spd-volkmarode-dibbesdorf-schapen.de/termine/spd-info-stand-2/
LOCATION:Ziegelwiese\, Ziegelwiese 1\, BS-Volkmarode\, 38104
CATEGORIES:Wahlen
END:VEVENT
BEGIN:VEVENT
DTSTART;TZID=Europe/Paris:20210904T190000
DTEND;TZID=Europe/Paris:20210904T203000
DTSTAMP:20260423T133542
CREATED:20210824T193003Z
LAST-MODIFIED:20210824T193003Z
UID:2103-1630782000-1630787400@spd-volkmarode-dibbesdorf-schapen.de
SUMMARY:Olaf Scholz kommt
DESCRIPTION:Wir erwarten den SPD-Kanzlerkandidaten Olaf Scholz am \nSonnabend\, 04.09.2021 ab 19 Uhr auf dem Schlossplatz in Braunschweig (gemeinsam mit dem Oberbürgermeisterkandidaten Thorsten Kornblum und allen BundestagskandidatInnen aus dem SPD-Bezirk). \nVorher ist er am \nSonnabend\, 04.09.2021 ab 09.30 Uhr auf dem Marktplatz in Peine (gemeinsam mit unseren DirektkandidatInnen zur Kommunalwahl und auch Hubertus Heil\, Bundesminister für Arbeit und Soziales)
URL:https://spd-volkmarode-dibbesdorf-schapen.de/termine/olaf-scholz-kommt/
LOCATION:Schossplatz\, Schlossplatz\, Braunschweig\, 38100
CATEGORIES:Wahlen
END:VEVENT
BEGIN:VEVENT
DTSTART;TZID=Europe/Paris:20210910T193000
DTEND;TZID=Europe/Paris:20210910T210000
DTSTAMP:20260423T133542
CREATED:20210906T051941Z
LAST-MODIFIED:20210906T051941Z
UID:2154-1631302200-1631307600@spd-volkmarode-dibbesdorf-schapen.de
SUMMARY:Abschlussveranstaltung mit Stephan Weil
DESCRIPTION:Dialog-Veranstaltung\n\nAuf ein Wort mit Stephan Weil\nDie Abschlussveranstaltung des SPD-Kommunalwahlkampfes findet in Form einer Dialog-Veranstaltung mit dem niedersächsischen SPD-Landesvorsitzenden Stephan Weil\, Niedersächsischer Ministerpräsident\, statt. Deshalb lädt die SPD herzlich zu „Auf ein Wort mit Stephan Weil“ ein. Die Veranstaltung wird moderiert von unserem Oberbürgermeisterkandidaten Dr. Thorsten Kornblum. \n Freitag\, 10. September 2021\,\nEinlass: ab 18.30 Uhr\nBeginn: 19.30 Uhr\nim Biergarten „DurchEinAnderS“\,\nTriftstraße 1\, 38126 Braunschweig \nDie Sitzplätze im Biergarten sind überdacht\, sodass die Veranstaltung auch bei Regenwetter stattfinden kann.  \nAn den Tischen liegen Bierdeckel aus\, die von den Besucherinnen und Besuchern mit Fragen an\nden SPD-Landesvorsitzenden Stephan Weil versehen werden können. Diese werden dann\neingesammelt und Stephan zur Beantwortung vorgelegt.
URL:https://spd-volkmarode-dibbesdorf-schapen.de/termine/abschlussveranstaltung-mit-stephan-weil/
LOCATION:DurchEinAnderS\, Triftstraße 1\, Braunschweig - Rautheim\, 38126
CATEGORIES:Wahlen
END:VEVENT
BEGIN:VEVENT
DTSTART;TZID=Europe/Paris:20210912T080000
DTEND;TZID=Europe/Paris:20210912T140000
DTSTAMP:20260423T133542
CREATED:20210910T092209Z
LAST-MODIFIED:20210910T094036Z
UID:2159-1631433600-1631455200@spd-volkmarode-dibbesdorf-schapen.de
SUMMARY:Schapener Volkslauf
DESCRIPTION:Der SPD-Unterbezirk nimmt mit einer eigenen Laufgruppe teil. \nFeuern Sie uns als Laufgruppe „SPD“ mit unserem „Front Runner“ Christos Pantazis\, Bundestagskandidat für unseren Wahlkreis 50\, an.
URL:https://spd-volkmarode-dibbesdorf-schapen.de/termine/schapener-volkslauf/
LOCATION:TSV Schapen\, Buchhorstblick\, BS-Schapen\, 38104
END:VEVENT
BEGIN:VEVENT
DTSTART;TZID=Europe/Paris:20210912T180000
DTEND;TZID=Europe/Paris:20210912T180000
DTSTAMP:20260423T133542
CREATED:20210730T204144Z
LAST-MODIFIED:20210730T204435Z
UID:1744-1631469600-1631469600@spd-volkmarode-dibbesdorf-schapen.de
SUMMARY:Kommunalwahl in Niedersachsen
DESCRIPTION:Schließung der Wahllokale
URL:https://spd-volkmarode-dibbesdorf-schapen.de/termine/kommunalwahlen-in-niedersachsen/
LOCATION:Braunschweig\, Braunschweig
CATEGORIES:Wahlen
END:VEVENT
BEGIN:VEVENT
DTSTART;TZID=Europe/Paris:20210920T190000
DTEND;TZID=Europe/Paris:20210920T203000
DTSTAMP:20260423T133542
CREATED:20211010T194117Z
LAST-MODIFIED:20211010T194117Z
UID:2183-1632164400-1632169800@spd-volkmarode-dibbesdorf-schapen.de
SUMMARY:Stadtbezirksratssitzung
DESCRIPTION:Letzte Bezirksratsitzung des Stadtbezirks 114.
URL:https://spd-volkmarode-dibbesdorf-schapen.de/termine/stadtbezirksratssitzung/
LOCATION:Gemeindehaus Volkmarode\, Alte Dorfstraße 2\, BS-Volkmarode\, 38104
END:VEVENT
BEGIN:VEVENT
DTSTART;TZID=Europe/Paris:20210926T180000
DTEND;TZID=Europe/Paris:20210926T180000
DTSTAMP:20260423T133542
CREATED:20210730T204328Z
LAST-MODIFIED:20210730T204423Z
UID:1746-1632679200-1632679200@spd-volkmarode-dibbesdorf-schapen.de
SUMMARY:Bundestagswahl
DESCRIPTION:Schließung der Wahlloakle
URL:https://spd-volkmarode-dibbesdorf-schapen.de/termine/bundestagswahlen/
LOCATION:Braunschweig\, Braunschweig
CATEGORIES:Wahlen
END:VEVENT
END:VCALENDAR