BEGIN:VCALENDAR
VERSION:2.0
PRODID:-//SPD Volkmarode-Schapen-Dibbesdorf - ECPv6.15.18//NONSGML v1.0//EN
CALSCALE:GREGORIAN
METHOD:PUBLISH
X-WR-CALNAME:SPD Volkmarode-Schapen-Dibbesdorf
X-ORIGINAL-URL:https://spd-volkmarode-dibbesdorf-schapen.de
X-WR-CALDESC:Veranstaltungen für SPD Volkmarode-Schapen-Dibbesdorf
REFRESH-INTERVAL;VALUE=DURATION:PT1H
X-Robots-Tag:noindex
X-PUBLISHED-TTL:PT1H
BEGIN:VTIMEZONE
TZID:Europe/Paris
BEGIN:DAYLIGHT
TZOFFSETFROM:+0100
TZOFFSETTO:+0200
TZNAME:CEST
DTSTART:20200329T010000
END:DAYLIGHT
BEGIN:STANDARD
TZOFFSETFROM:+0200
TZOFFSETTO:+0100
TZNAME:CET
DTSTART:20201025T010000
END:STANDARD
BEGIN:DAYLIGHT
TZOFFSETFROM:+0100
TZOFFSETTO:+0200
TZNAME:CEST
DTSTART:20210328T010000
END:DAYLIGHT
BEGIN:STANDARD
TZOFFSETFROM:+0200
TZOFFSETTO:+0100
TZNAME:CET
DTSTART:20211031T010000
END:STANDARD
BEGIN:DAYLIGHT
TZOFFSETFROM:+0100
TZOFFSETTO:+0200
TZNAME:CEST
DTSTART:20220327T010000
END:DAYLIGHT
BEGIN:STANDARD
TZOFFSETFROM:+0200
TZOFFSETTO:+0100
TZNAME:CET
DTSTART:20221030T010000
END:STANDARD
END:VTIMEZONE
BEGIN:VEVENT
DTSTART;TZID=Europe/Paris:20211122T190000
DTEND;TZID=Europe/Paris:20211122T210000
DTSTAMP:20260423T103542
CREATED:20211015T195446Z
LAST-MODIFIED:20220827T091726Z
UID:2186-1637607600-1637614800@spd-volkmarode-dibbesdorf-schapen.de
SUMMARY:1. Sitzung des neuen Stadtbezirksrats
DESCRIPTION:Konstituierende Sitzung des neuen Stadtbezirksrats 111 (Hondelage-Volkmarode).
URL:https://spd-volkmarode-dibbesdorf-schapen.de/termine/1-sitzung-des-neuen-stadtbezirksrats/
LOCATION:Feuerwehrhaus Volkmarode\, Ziegelkamp 7\, Braunschweig-Volkmarode\, 38104
CATEGORIES:Stadtbezirksrat
END:VEVENT
END:VCALENDAR