BEGIN:VCALENDAR
VERSION:2.0
PRODID:-//SPD Volkmarode-Schapen-Dibbesdorf - ECPv6.15.18//NONSGML v1.0//EN
CALSCALE:GREGORIAN
METHOD:PUBLISH
X-WR-CALNAME:SPD Volkmarode-Schapen-Dibbesdorf
X-ORIGINAL-URL:https://spd-volkmarode-dibbesdorf-schapen.de
X-WR-CALDESC:Veranstaltungen für SPD Volkmarode-Schapen-Dibbesdorf
REFRESH-INTERVAL;VALUE=DURATION:PT1H
X-Robots-Tag:noindex
X-PUBLISHED-TTL:PT1H
BEGIN:VTIMEZONE
TZID:Europe/Paris
BEGIN:DAYLIGHT
TZOFFSETFROM:+0100
TZOFFSETTO:+0200
TZNAME:CEST
DTSTART:20210328T010000
END:DAYLIGHT
BEGIN:STANDARD
TZOFFSETFROM:+0200
TZOFFSETTO:+0100
TZNAME:CET
DTSTART:20211031T010000
END:STANDARD
BEGIN:DAYLIGHT
TZOFFSETFROM:+0100
TZOFFSETTO:+0200
TZNAME:CEST
DTSTART:20220327T010000
END:DAYLIGHT
BEGIN:STANDARD
TZOFFSETFROM:+0200
TZOFFSETTO:+0100
TZNAME:CET
DTSTART:20221030T010000
END:STANDARD
BEGIN:DAYLIGHT
TZOFFSETFROM:+0100
TZOFFSETTO:+0200
TZNAME:CEST
DTSTART:20230326T010000
END:DAYLIGHT
BEGIN:STANDARD
TZOFFSETFROM:+0200
TZOFFSETTO:+0100
TZNAME:CET
DTSTART:20231029T010000
END:STANDARD
END:VTIMEZONE
BEGIN:VEVENT
DTSTART;TZID=Europe/Paris:20220829T190000
DTEND;TZID=Europe/Paris:20220829T210000
DTSTAMP:20260422T210724
CREATED:20220826T164844Z
LAST-MODIFIED:20220827T092054Z
UID:2695-1661799600-1661806800@spd-volkmarode-dibbesdorf-schapen.de
SUMMARY:Auf-ein-Wort mit Minister Olaf Lies
DESCRIPTION:und unseren drei Landtagskandidierenden Julia Retzlaff\, Annette Schütze und Christoph Bratmann. \nMüssen wir im Winter frieren? \nDiskussion mit dem niedersächsischen Energieminister Olaf Lies. \nMontag\, 29.08.2022\, 19 Uhr\, Großer Saal in der Brunsviga\, Karlstraße 35\, 38016 Braunschweig. \n 
URL:https://spd-volkmarode-dibbesdorf-schapen.de/termine/auf-ein-wort-mit-minister-olaf-lies/
LOCATION:Brunsviga\, Karlstraße 35\, Braunschweig\, 38016
CATEGORIES:Wahlen
END:VEVENT
END:VCALENDAR