BEGIN:VCALENDAR
VERSION:2.0
PRODID:-//SPD Volkmarode-Schapen-Dibbesdorf - ECPv6.15.18//NONSGML v1.0//EN
CALSCALE:GREGORIAN
METHOD:PUBLISH
X-ORIGINAL-URL:https://spd-volkmarode-dibbesdorf-schapen.de
X-WR-CALDESC:Veranstaltungen für SPD Volkmarode-Schapen-Dibbesdorf
REFRESH-INTERVAL;VALUE=DURATION:PT1H
X-Robots-Tag:noindex
X-PUBLISHED-TTL:PT1H
BEGIN:VTIMEZONE
TZID:Europe/Paris
BEGIN:DAYLIGHT
TZOFFSETFROM:+0100
TZOFFSETTO:+0200
TZNAME:CEST
DTSTART:20210328T010000
END:DAYLIGHT
BEGIN:STANDARD
TZOFFSETFROM:+0200
TZOFFSETTO:+0100
TZNAME:CET
DTSTART:20211031T010000
END:STANDARD
BEGIN:DAYLIGHT
TZOFFSETFROM:+0100
TZOFFSETTO:+0200
TZNAME:CEST
DTSTART:20220327T010000
END:DAYLIGHT
BEGIN:STANDARD
TZOFFSETFROM:+0200
TZOFFSETTO:+0100
TZNAME:CET
DTSTART:20221030T010000
END:STANDARD
BEGIN:DAYLIGHT
TZOFFSETFROM:+0100
TZOFFSETTO:+0200
TZNAME:CEST
DTSTART:20230326T010000
END:DAYLIGHT
BEGIN:STANDARD
TZOFFSETFROM:+0200
TZOFFSETTO:+0100
TZNAME:CET
DTSTART:20231029T010000
END:STANDARD
END:VTIMEZONE
BEGIN:VEVENT
DTSTART;TZID=Europe/Paris:20220903T180000
DTEND;TZID=Europe/Paris:20220903T230000
DTSTAMP:20260422T194523
CREATED:20220816T100209Z
LAST-MODIFIED:20220816T100209Z
UID:2690-1662228000-1662246000@spd-volkmarode-dibbesdorf-schapen.de
SUMMARY:Benefitzkonzert für die Ukraine
DESCRIPTION:Mit dem ukrainischen Folk-Sänger und Gitarristen Gena\, der Band „Dalibude“ und der ukrainischen Popsängerin Navka. \nBegegnungsZentrum Gliesmarode\, 03. Sept. 2022\, 18:00 Uhr (Einlass: 17:00 Uhr) \nEintritt frei\, Spenden erbeten. \n 
URL:https://spd-volkmarode-dibbesdorf-schapen.de/termine/benefitzkonzert-fuer-die-ukraine/
LOCATION:BegegnungsZentrum Gliesmarode\, Am Soolanger 1a\, Braunschweig\, 38104
END:VEVENT
BEGIN:VEVENT
DTSTART;TZID=Europe/Paris:20220904T080000
DTEND;TZID=Europe/Paris:20220904T150000
DTSTAMP:20260422T194523
CREATED:20220816T095011Z
LAST-MODIFIED:20220816T095011Z
UID:2687-1662278400-1662303600@spd-volkmarode-dibbesdorf-schapen.de
SUMMARY:Schapener Volkslauf
DESCRIPTION:Die SPD wird mit einem „Team Julia“ am Schapener Volkslauf\, Sonntag\, 04. September\, teilnehmen. Das Team wird gemeinsam die 6\,1-km-Strecke laufen.
URL:https://spd-volkmarode-dibbesdorf-schapen.de/termine/schapener-volkslauf-2/
LOCATION:Sporthalle Schapen\, Buchhorstblick 9\, BS-Schapen\, 38104
END:VEVENT
BEGIN:VEVENT
DTSTART;TZID=Europe/Paris:20220909T180000
DTEND;TZID=Europe/Paris:20220909T200000
DTSTAMP:20260422T194523
CREATED:20220910T135816Z
LAST-MODIFIED:20220910T135816Z
UID:2750-1662746400-1662753600@spd-volkmarode-dibbesdorf-schapen.de
SUMMARY:Julia Retzlaff moderiert: "Fachkräftemangel"
DESCRIPTION:Podiumsdiskussion: Fachkräftesicherung und -gewinnung in der Region.\nFehlende Fachkräfte bleiben nicht folgenlos. Viele Unternehmen sind bereits akut von dem Mangel an Fachkräften betroffen. Angesichts der demografischen Entwicklung ist die Sicherung des Fachkräftebedarfs eine der großen Herausforderungen der kommenden Jahrzehnte. Aus diesem Anlass lädt die SPD Bezirk Braunschweig zu einer Podiumsdiskussion zur  Fachkräftesicherung und -gewinnung in der Region ein. \nGäste: \n\nGarnet Alps\, 1. Bevollmächtigte der IG Metall Braunschweig\nDetlef Bade\, Präsident der Handwerkskammer Braunschweig-Lüneburg-Stade\nChristoph Bratmann MdL\, Wirtschaftspolitischer Sprecher der SPD-Landtagsfraktion\nSaskia Esken MdB\, SPD-Parteivorsitzende\nHubertus Heil MdB\, Bundesminister für Arbeit und Soziales\nChristoph Meinecke\, Stellvertretender Hauptgeschäftsführer der Unternehmerverbände Niedersachsen e.V.\n\nModeration: \n\nJulia Retzlaff\, Landtagskandidatin Braunschweig-Nord\n\nGrußwort: \n\nDr. Thorsten Kornblum
URL:https://spd-volkmarode-dibbesdorf-schapen.de/termine/julia-retzlaff-moderiert-fachkraeftemangel/
LOCATION:Kantine Alte Schmiede (BMA-Kantine)\, Am alten Bahnhof 5\, Braunschweig\, 38122
ORGANIZER;CN="SPD Bezirk Braunschweig":MAILTO:Bezirk.Braunschweig@SPD.de
END:VEVENT
BEGIN:VEVENT
DTSTART;TZID=Europe/Paris:20220910T180000
DTEND;TZID=Europe/Paris:20220910T190000
DTSTAMP:20260422T194523
CREATED:20220917T180359Z
LAST-MODIFIED:20220917T180407Z
UID:2761-1662832800-1662836400@spd-volkmarode-dibbesdorf-schapen.de
SUMMARY:Pizza und Politik mit Saskia Esken
DESCRIPTION:Herzliche Einladung zu „Pizza und Politik“ am 10.09.2022 von 18 – 19 Uhr im Innenhof der Schloßstrasse 8 mit unserem Arbeitsminister Hubertus Heil und unserer Parteivorsitzenden Saskia Esken!
URL:https://spd-volkmarode-dibbesdorf-schapen.de/termine/pizza-und-politik-mit-saskia-esken/
LOCATION:SPD Braunschweig\, Schloßstraße 8\, Braunschweig\, 38100
CATEGORIES:Wahlen
ORGANIZER;CN="SPD Bezirk Braunschweig":MAILTO:Bezirk.Braunschweig@SPD.de
END:VEVENT
BEGIN:VEVENT
DTSTART;TZID=Europe/Paris:20220913T190000
DTEND;TZID=Europe/Paris:20220913T210000
DTSTAMP:20260422T194523
CREATED:20220827T085934Z
LAST-MODIFIED:20220827T090910Z
UID:2703-1663095600-1663102800@spd-volkmarode-dibbesdorf-schapen.de
SUMMARY:Stadtbezirksrat: September-Sitzung
DESCRIPTION:Im September findet die Sitzung des Stadtbezirksrates im Stadtbezirk 111 wieder im Feuerwehrhaus in Volkmarode statt. \nTagesordnung und die Protokolle der vergangenen Sitzungen findet man hier: https://ratsinfo.braunschweig.de/bi/si018_a.asp?GRA=1105
URL:https://spd-volkmarode-dibbesdorf-schapen.de/termine/stadtbezirksrat-september-sitzung/
LOCATION:Feuerwehrhaus Volkmarode\, Ziegelkamp 7\, Braunschweig-Volkmarode\, 38104
CATEGORIES:Stadtbezirksrat
END:VEVENT
BEGIN:VEVENT
DTSTART;TZID=Europe/Paris:20220927T210000
DTEND;TZID=Europe/Paris:20220927T221500
DTSTAMP:20260422T194523
CREATED:20220924T090737Z
LAST-MODIFIED:20220924T091032Z
UID:2774-1664312400-1664316900@spd-volkmarode-dibbesdorf-schapen.de
SUMMARY:Stephan Weil im Duell mit Herrn Althusmann
DESCRIPTION:Der nächste Meilenstein steht am kommenden Dienstag\, dem 27.09.\, vor der Tür. Um 21:00 Uhr findet live im NDR das Duell zwischen Herrn Althusmann (CDU) und Stephan Weil (SPD) statt. \nSchaltet Sie sich ein! \nhttps://www.ndr.de/fernsehen/sendungen/NDR-Info-Wahl-Das-Duell\,sendung1296688.html \n  \n 
URL:https://spd-volkmarode-dibbesdorf-schapen.de/termine/stephan-weil-im-duell-mit-herrn-althusmann/
LOCATION:NDR-Fernsehen
CATEGORIES:Wahlen
END:VEVENT
BEGIN:VEVENT
DTSTART;TZID=Europe/Paris:20220929T190000
DTEND;TZID=Europe/Paris:20220929T210000
DTSTAMP:20260422T194523
CREATED:20220924T085032Z
LAST-MODIFIED:20220924T085046Z
UID:2768-1664478000-1664485200@spd-volkmarode-dibbesdorf-schapen.de
SUMMARY:Sicher durch die Energiekrise. Wie hilft der Staat?
DESCRIPTION:Die steigenden Energiepreise und die Inflation bereiten vielen Menschen Sorge. Für die SPD ist klar:Niemand darf mit Existenzängsten alleine gelassen werden! Um Bürgerinnen und Bürger zu entlasten\,will die SPD-geführte niedersächsische Landesregierung 100 Millionen Euro zur Verfügung stellen. \nDoch wie können wir unbürokratisch die Menschen unterstützen\, die durch die Preisentwicklungenunverschuldet in Not geraten sind? Und welche Hilfen werden konkret benötigt? Lassen Sie uns hierzubei der Veranstaltung „Sicher durch die Energiekrise. Wie hilft der Staat?“ ins Gespräch kommen.Damit möglichst viele an der Diskussion teilnehmen können\, nutzen wir das Fishbowl-Format. \nTeilnehmende der Gesprächsrunde: \n\nAnnette Schütze\, MdL\, Mitglied im Ausschuss für Soziales und Gesundheit im Niedersächsischen Landtag\nChristoph Bratmann\, MdL\, wirtschaftspolitischer Sprecher der SPD-Landtagsfraktion\nJulia Retzlaff\, SPD-Landtagskandidatin\nRifat Fersahoglu-Weber\, Vorsitzender des AWO-Bezirksverbands Braunschweig e.V.\n\nWir bitten um Anmeldung per E-Mail an info@annette-schuetze.de oder telefonisch unter 0531-4809835 bis Mittwoch\, 28. September.
URL:https://spd-volkmarode-dibbesdorf-schapen.de/termine/sicher-durch-die-energiekrise-wie-hilft-der-staat/
LOCATION:AWO-Begegnungsstätte\, Frankfurter Straße 18\, Braunschweig\, 38122
CATEGORIES:Wahlen
END:VEVENT
END:VCALENDAR